BEGIN:VCALENDAR
VERSION:2.0
PRODID:-// - ECPv6.15.4//NONSGML v1.0//EN
CALSCALE:GREGORIAN
METHOD:PUBLISH
X-ORIGINAL-URL:https://chattowncrier.com
X-WR-CALDESC:Events for 
REFRESH-INTERVAL;VALUE=DURATION:PT1H
X-Robots-Tag:noindex
X-PUBLISHED-TTL:PT1H
BEGIN:VTIMEZONE
TZID:America/New_York
BEGIN:DAYLIGHT
TZOFFSETFROM:-0500
TZOFFSETTO:-0400
TZNAME:EDT
DTSTART:20250309T070000
END:DAYLIGHT
BEGIN:STANDARD
TZOFFSETFROM:-0400
TZOFFSETTO:-0500
TZNAME:EST
DTSTART:20251102T060000
END:STANDARD
END:VTIMEZONE
BEGIN:VEVENT
DTSTART;TZID=America/New_York:20250927T113000
DTEND;TZID=America/New_York:20250927T153000
DTSTAMP:20260423T171744
CREATED:20250904T162139Z
LAST-MODIFIED:20250925T164018Z
UID:1569-1758972600-1758987000@chattowncrier.com
SUMMARY:The Missing Gladiator
DESCRIPTION:Your party is approached by a young boy who needs your help to find his father. His father is a Coliseum gladiator and has gone missing. This adventure is for a Light party (4 players) of Level 50 adventurers. Resources will be provided.
URL:https://chattowncrier.com/event/the-missing-gladiator/
CATEGORIES:FFXIV TTRPG
END:VEVENT
END:VCALENDAR