BEGIN:VCALENDAR
VERSION:2.0
PRODID:-// - ECPv6.15.4//NONSGML v1.0//EN
CALSCALE:GREGORIAN
METHOD:PUBLISH
X-ORIGINAL-URL:https://chattowncrier.com
X-WR-CALDESC:Events for 
REFRESH-INTERVAL;VALUE=DURATION:PT1H
X-Robots-Tag:noindex
X-PUBLISHED-TTL:PT1H
BEGIN:VTIMEZONE
TZID:UTC
BEGIN:STANDARD
TZOFFSETFROM:+0000
TZOFFSETTO:+0000
TZNAME:UTC
DTSTART:20250101T000000
END:STANDARD
END:VTIMEZONE
BEGIN:VEVENT
DTSTART;TZID=UTC:20250928T140000
DTEND;TZID=UTC:20250928T160000
DTSTAMP:20260423T153509
CREATED:20250912T165812Z
LAST-MODIFIED:20250923T140809Z
UID:1679-1759068000-1759075200@chattowncrier.com
SUMMARY:Old Gods of Appalachia - Live Actual Play
DESCRIPTION:  \nSouthern West Virginia has a dark secret history\, one of strange disappearances\, screams in the night and mysteriously well manicured meadows. Now a broken down bus has left a group of travelers squarely in the sights of something very big\, very territorial and very much in need of a shearing.
URL:https://chattowncrier.com/event/old-gods-of-appalachia-live-actual-play/
CATEGORIES:Live Actual Play
END:VEVENT
BEGIN:VEVENT
DTSTART;TZID=UTC:20250927T183000
DTEND;TZID=UTC:20250927T213000
DTSTAMP:20260423T153509
CREATED:20250912T165511Z
LAST-MODIFIED:20250923T140836Z
UID:1676-1758997800-1759008600@chattowncrier.com
SUMMARY:Alien - Live Actual Play
DESCRIPTION:  \n \nThe orders were simple: Board the derelict science vessel\, discover what happened to its crew\, and recover valuable company assets before the USCSS Callisto falls into a decaying orbit. But when the crew awake\, they are shocked to find they are already aboard the Callisto\, a crew member is missing\, and a mysterious creature lies dead among them. Will they be able to solve the mystery\, complete the job and find their lost crewmate in time? Or are they too late?
URL:https://chattowncrier.com/event/alien-live-actual-play/
CATEGORIES:Live Actual Play
END:VEVENT
BEGIN:VEVENT
DTSTART;TZID=UTC:20250927T103000
DTEND;TZID=UTC:20250927T123000
DTSTAMP:20260423T153509
CREATED:20250912T165328Z
LAST-MODIFIED:20250923T142041Z
UID:1673-1758969000-1758976200@chattowncrier.com
SUMMARY:Dungeons and Dragons Live Actual Play
DESCRIPTION:  \nOur characters wake up in an evil mage’s dungeon. The mage is dying\, his tower crumbling under siege by an army of monsters. They need to free themselves and escape fast\, but there’s one BIG problem…they have with no memory of who they are or how they got here! \nThe adventure begins and it’s up to the audience to make vital decisions about their skills\, weaknesses\, relationships\, and mysterious past\, building each character along with the players as the action unfolds.\nWill they become heroes\, villains\, or something stranger? Their fate is in your hands.
URL:https://chattowncrier.com/event/dungeons-and-dragons-live-actual-play/
CATEGORIES:Live Actual Play
END:VEVENT
END:VCALENDAR