BEGIN:VCALENDAR
VERSION:2.0
PRODID:-// - ECPv6.15.4//NONSGML v1.0//EN
CALSCALE:GREGORIAN
METHOD:PUBLISH
X-ORIGINAL-URL:https://chattowncrier.com
X-WR-CALDESC:Events for 
REFRESH-INTERVAL;VALUE=DURATION:PT1H
X-Robots-Tag:noindex
X-PUBLISHED-TTL:PT1H
BEGIN:VTIMEZONE
TZID:America/New_York
BEGIN:DAYLIGHT
TZOFFSETFROM:-0500
TZOFFSETTO:-0400
TZNAME:EDT
DTSTART:20250309T070000
END:DAYLIGHT
BEGIN:STANDARD
TZOFFSETFROM:-0400
TZOFFSETTO:-0500
TZNAME:EST
DTSTART:20251102T060000
END:STANDARD
END:VTIMEZONE
BEGIN:VEVENT
DTSTART;TZID=America/New_York:20250928T133000
DTEND;TZID=America/New_York:20250928T163000
DTSTAMP:20260423T183314
CREATED:20250904T162249Z
LAST-MODIFIED:20250921T172309Z
UID:1595-1759066200-1759077000@chattowncrier.com
SUMMARY:The Shadow of Rebellion
DESCRIPTION:Rebel terrorists have started an uprising on one of Weyland-Yutani’s mining colonies. They are not seen as a major threat\, but they have disrupted the flow of ore and gasses. Weyland-Yutani has dispatched you\, a small contingent of marines\, to deal with the insurgents. Upon gearing up\, the command deck says there seems to be some strange signals around the orbiting moons\, but they think its just interference from the nearby radiation belt. You land outside of the colony\, armed and ready to deal with the insurgents.
URL:https://chattowncrier.com/event/the-shadow-of-rebellion/
CATEGORIES:Alien
END:VEVENT
END:VCALENDAR