BEGIN:VCALENDAR
VERSION:2.0
PRODID:-// - ECPv6.15.4//NONSGML v1.0//EN
CALSCALE:GREGORIAN
METHOD:PUBLISH
X-ORIGINAL-URL:https://chattowncrier.com
X-WR-CALDESC:Events for 
REFRESH-INTERVAL;VALUE=DURATION:PT1H
X-Robots-Tag:noindex
X-PUBLISHED-TTL:PT1H
BEGIN:VTIMEZONE
TZID:America/New_York
BEGIN:DAYLIGHT
TZOFFSETFROM:-0500
TZOFFSETTO:-0400
TZNAME:EDT
DTSTART:20250309T070000
END:DAYLIGHT
BEGIN:STANDARD
TZOFFSETFROM:-0400
TZOFFSETTO:-0500
TZNAME:EST
DTSTART:20251102T060000
END:STANDARD
END:VTIMEZONE
BEGIN:VEVENT
DTSTART;TZID=America/New_York:20250928T150000
DTEND;TZID=America/New_York:20250928T170000
DTSTAMP:20260423T183229
CREATED:20250912T161258Z
LAST-MODIFIED:20250925T164520Z
UID:1657-1759071600-1759078800@chattowncrier.com
SUMMARY:Pride\, Prejudice\, and Centipedes
DESCRIPTION:Something has been stealing livestock from the farms of Stairside! Lieutenant Darcy is desperately seeking help in finding the culprit among the townsfolk\, while Miss Elizabeth Abbot is dead certain that the culprit is some kind of creature. Who will you side with to find the answers?
URL:https://chattowncrier.com/event/pride-prejudice-and-centipedes/
CATEGORIES:Household
END:VEVENT
BEGIN:VEVENT
DTSTART;TZID=America/New_York:20250928T123000
DTEND;TZID=America/New_York:20250928T143000
DTSTAMP:20260423T183229
CREATED:20250912T161258Z
LAST-MODIFIED:20250925T164419Z
UID:1659-1759062600-1759069800@chattowncrier.com
SUMMARY:The Case of the Missing Bumblebee
DESCRIPTION:On the first day of Samhain\, there is a great celebration! It is none other than the prestigious bumblebee beauty pageant! But\, alas\, the night before the pageant\, disaster strikes! A brawl breaks out\, and a bumblebee is kidnapped! With a few hours to go before the event kicks off\, and in an attempt to avoid an international incident\, can the party find the missing bee of the Tsarina?
URL:https://chattowncrier.com/event/the-case-of-the-missing-bumblebee/
CATEGORIES:Household
END:VEVENT
END:VCALENDAR