BEGIN:VCALENDAR
VERSION:2.0
PRODID:-// - ECPv6.15.4//NONSGML v1.0//EN
CALSCALE:GREGORIAN
METHOD:PUBLISH
X-ORIGINAL-URL:https://chattowncrier.com
X-WR-CALDESC:Events for 
REFRESH-INTERVAL;VALUE=DURATION:PT1H
X-Robots-Tag:noindex
X-PUBLISHED-TTL:PT1H
BEGIN:VTIMEZONE
TZID:America/New_York
BEGIN:DAYLIGHT
TZOFFSETFROM:-0500
TZOFFSETTO:-0400
TZNAME:EDT
DTSTART:20250309T070000
END:DAYLIGHT
BEGIN:STANDARD
TZOFFSETFROM:-0400
TZOFFSETTO:-0500
TZNAME:EST
DTSTART:20251102T060000
END:STANDARD
END:VTIMEZONE
BEGIN:VEVENT
DTSTART;TZID=America/New_York:20250927T180000
DTEND;TZID=America/New_York:20250927T210000
DTSTAMP:20260423T172115
CREATED:20250912T161258Z
LAST-MODIFIED:20250922T231130Z
UID:1658-1758996000-1759006800@chattowncrier.com
SUMMARY:The Most Dangerous Game
DESCRIPTION:You and your pack mates wake to find yourselves in a concrete cell. You are naked save for the collars around your throat. How did you get here? Where even is here? Thoughts are pushed aside when the collars inject a potent cocktail inside you. You burn with Rage at this! Who could have caught you? Time is ticking\, wolves. It is a race against the clock to find out where you are\, who kidnapped you\, and how to get the hell out. But not before finding out what it was that those damned collars injected you with…
URL:https://chattowncrier.com/event/the-most-dangerous-game/
CATEGORIES:Werewolf: The Apocolypse
END:VEVENT
END:VCALENDAR